View In:
ArcGIS JavaScript
ArcGIS.com Map
Google Earth
ArcMap
View Footprint In:
ArcGIS.com Map
Service Description:
Name: Pictometry
Description: Pictometry
Single Fused Map Cache: false
Extent:
XMin: 6028495.180433335
YMin: 2069895.3084062252
XMax: 6081828.1799000045
YMax: 2160517.974166665
Spatial Reference: PROJCS["L2CAL3F83",GEOGCS["GCS_North_American_1983",DATUM["D_North_American_1983",SPHEROID["GRS_1980",6378137.0,298.257222101]],PRIMEM["Greenwich",0.0],UNIT["Degree",0.0174532925199433]],PROJECTION["Lambert_Conformal_Conic"],PARAMETER["false_easting",6561666.665],PARAMETER["false_northing",1640416.666],PARAMETER["central_meridian",-120.500000019872],PARAMETER["standard_parallel_1",38.43333332283937],PARAMETER["standard_parallel_2",37.06666671980479],PARAMETER["latitude_of_origin",36.50000000126449],UNIT["Foot_US",0.3048006096012192]]
Initial Extent:
XMin: 6028495.180433335
YMin: 2069895.3084062252
XMax: 6081828.1799000045
YMax: 2160517.974166665
Spatial Reference: PROJCS["L2CAL3F83",GEOGCS["GCS_North_American_1983",DATUM["D_North_American_1983",SPHEROID["GRS_1980",6378137.0,298.257222101]],PRIMEM["Greenwich",0.0],UNIT["Degree",0.0174532925199433]],PROJECTION["Lambert_Conformal_Conic"],PARAMETER["false_easting",6561666.665],PARAMETER["false_northing",1640416.666],PARAMETER["central_meridian",-120.500000019872],PARAMETER["standard_parallel_1",38.43333332283937],PARAMETER["standard_parallel_2",37.06666671980479],PARAMETER["latitude_of_origin",36.50000000126449],UNIT["Foot_US",0.3048006096012192]]
Full Extent:
XMin: 6028495.180433335
YMin: 2069895.3084062252
XMax: 6081828.1799000045
YMax: 2160517.974166665
Spatial Reference: PROJCS["L2CAL3F83",GEOGCS["GCS_North_American_1983",DATUM["D_North_American_1983",SPHEROID["GRS_1980",6378137.0,298.257222101]],PRIMEM["Greenwich",0.0],UNIT["Degree",0.0174532925199433]],PROJECTION["Lambert_Conformal_Conic"],PARAMETER["false_easting",6561666.665],PARAMETER["false_northing",1640416.666],PARAMETER["central_meridian",-120.500000019872],PARAMETER["standard_parallel_1",38.43333332283937],PARAMETER["standard_parallel_2",37.06666671980479],PARAMETER["latitude_of_origin",36.50000000126449],UNIT["Foot_US",0.3048006096012192]]
Pixel Size X: 0.33333332999999843
Pixel Size Y: 0.3333333300000002
Band Count: 3
Pixel Type: U8
RasterFunction Infos: N/A
Mensuration Capabilities: Basic
Has Histograms: true
Has Colormap: false
Min Scale: 0
Max Scale: 0
Copyright Text:
Service Data Type: esriImageServiceDataTypeRGB
Min Values: 43, 52, 6
Max Values: 255, 255, 255
Mean Values: 166.1776119403, 163.93395522388, 147.76156716418
Standard Deviation Values: 67.11634878995, 68.267727209759, 80.249449343482
Object ID Field:
Fields:
None
Default Mosaic Method: Center
Allowed Mosaic Methods:
SortField:
SortValue: null
Mosaic Operator: First
Default Compression Quality: 75
Default Resampling Method: Bilinear
Max Record Count: null
Max Image Height: 4100
Max Image Width: 15000
Max Download Image Count: null
Max Mosaic Image Count: null
Allow Raster Function: true
Allow Compute TiePoints: false
Supports Statistics: false
Supports Advanced Queries: false
Use StandardizedQueries: true
Raster Type Infos:
Name: Raster Dataset
Description: Supports all ArcGIS Raster Datasets
Help:
Has Raster Attribute Table: false
Edit Fields Info: null
Ownership Based AccessControl For Rasters: null
Child Resources:
Info
Histograms
Key Properties
Legend
Supported Operations:
Export Image
Identify
Measure
Compute Histograms
Get Samples
Compute Class Statistics