{
 "currentVersion": 10.22,
 "serviceDescription": "",
 "name": "Pictometry",
 "description": "Pictometry",
 "extent": {
  "xmin": 6028495.180433335,
  "ymin": 2069895.3084062252,
  "xmax": 6081828.1799000045,
  "ymax": 2160517.974166665,
  "spatialReference": {
   "wkt": "PROJCS[\"L2CAL3F83\",GEOGCS[\"GCS_North_American_1983\",DATUM[\"D_North_American_1983\",SPHEROID[\"GRS_1980\",6378137.0,298.257222101]],PRIMEM[\"Greenwich\",0.0],UNIT[\"Degree\",0.0174532925199433]],PROJECTION[\"Lambert_Conformal_Conic\"],PARAMETER[\"false_easting\",6561666.665],PARAMETER[\"false_northing\",1640416.666],PARAMETER[\"central_meridian\",-120.500000019872],PARAMETER[\"standard_parallel_1\",38.43333332283937],PARAMETER[\"standard_parallel_2\",37.06666671980479],PARAMETER[\"latitude_of_origin\",36.50000000126449],UNIT[\"Foot_US\",0.3048006096012192]]"
  }
 },
 "initialExtent": {
  "xmin": 6028495.180433335,
  "ymin": 2069895.3084062252,
  "xmax": 6081828.1799000045,
  "ymax": 2160517.974166665,
  "spatialReference": {
   "wkt": "PROJCS[\"L2CAL3F83\",GEOGCS[\"GCS_North_American_1983\",DATUM[\"D_North_American_1983\",SPHEROID[\"GRS_1980\",6378137.0,298.257222101]],PRIMEM[\"Greenwich\",0.0],UNIT[\"Degree\",0.0174532925199433]],PROJECTION[\"Lambert_Conformal_Conic\"],PARAMETER[\"false_easting\",6561666.665],PARAMETER[\"false_northing\",1640416.666],PARAMETER[\"central_meridian\",-120.500000019872],PARAMETER[\"standard_parallel_1\",38.43333332283937],PARAMETER[\"standard_parallel_2\",37.06666671980479],PARAMETER[\"latitude_of_origin\",36.50000000126449],UNIT[\"Foot_US\",0.3048006096012192]]"
  }
 },
 "fullExtent": {
  "xmin": 6028495.180433335,
  "ymin": 2069895.3084062252,
  "xmax": 6081828.1799000045,
  "ymax": 2160517.974166665,
  "spatialReference": {
   "wkt": "PROJCS[\"L2CAL3F83\",GEOGCS[\"GCS_North_American_1983\",DATUM[\"D_North_American_1983\",SPHEROID[\"GRS_1980\",6378137.0,298.257222101]],PRIMEM[\"Greenwich\",0.0],UNIT[\"Degree\",0.0174532925199433]],PROJECTION[\"Lambert_Conformal_Conic\"],PARAMETER[\"false_easting\",6561666.665],PARAMETER[\"false_northing\",1640416.666],PARAMETER[\"central_meridian\",-120.500000019872],PARAMETER[\"standard_parallel_1\",38.43333332283937],PARAMETER[\"standard_parallel_2\",37.06666671980479],PARAMETER[\"latitude_of_origin\",36.50000000126449],UNIT[\"Foot_US\",0.3048006096012192]]"
  }
 },
 "pixelSizeX": 0.33333332999999843,
 "pixelSizeY": 0.3333333300000002,
 "bandCount": 3,
 "pixelType": "U8",
 "minPixelSize": 0,
 "maxPixelSize": 0,
 "copyrightText": "",
 "serviceDataType": "esriImageServiceDataTypeRGB",
 "minValues": [
  43,
  52,
  6
 ],
 "maxValues": [
  255,
  255,
  255
 ],
 "meanValues": [
  166.1776119403,
  163.93395522388,
  147.76156716418
 ],
 "stdvValues": [
  67.11634878995,
  68.267727209759,
  80.249449343482
 ],
 "objectIdField": "",
 "fields": [],
 "capabilities": "Image,Metadata,Mensuration",
 "defaultMosaicMethod": "Center",
 "allowedMosaicMethods": "",
 "sortField": "",
 "sortValue": null,
 "mosaicOperator": "First",
 "defaultCompressionQuality": 75,
 "defaultResamplingMethod": "Bilinear",
 "maxImageHeight": 4100,
 "maxImageWidth": 15000,
 "allowRasterFunction": true,
 "rasterFunctionInfos": [],
 "rasterTypeInfos": [
  {
   "name": "Raster Dataset",
   "description": "Supports all ArcGIS Raster Datasets",
   "help": ""
  }
 ],
 "mensurationCapabilities": "Basic",
 "hasHistograms": true,
 "hasColormap": false,
 "hasRasterAttributeTable": false,
 "minScale": 0,
 "maxScale": 0,
 "exportTilesAllowed": false,
 "supportsStatistics": false,
 "supportsAdvancedQueries": false,
 "editFieldsInfo": null,
 "ownershipBasedAccessControlForRasters": null,
 "allowComputeTiePoints": false,
 "useStandardizedQueries": true,
 "spatialReference": {
  "wkt": "PROJCS[\"L2CAL3F83\",GEOGCS[\"GCS_North_American_1983\",DATUM[\"D_North_American_1983\",SPHEROID[\"GRS_1980\",6378137.0,298.257222101]],PRIMEM[\"Greenwich\",0.0],UNIT[\"Degree\",0.0174532925199433]],PROJECTION[\"Lambert_Conformal_Conic\"],PARAMETER[\"false_easting\",6561666.665],PARAMETER[\"false_northing\",1640416.666],PARAMETER[\"central_meridian\",-120.500000019872],PARAMETER[\"standard_parallel_1\",38.43333332283937],PARAMETER[\"standard_parallel_2\",37.06666671980479],PARAMETER[\"latitude_of_origin\",36.50000000126449],UNIT[\"Foot_US\",0.3048006096012192]]"
 }
}
