View In:
ArcGIS JavaScript
ArcGIS.com Map
Google Earth
ArcMap
View Footprint In:
ArcGIS.com Map
Service Description:
Name: Pictometry2020
Description: Pictometry2020
Single Fused Map Cache: false
Extent:
XMin: 6028968
YMin: 1990560
XMax: 6219048
YMax: 2159520
Spatial Reference: 102643
(2227)
Initial Extent:
XMin: 6028968
YMin: 1990560
XMax: 6219048
YMax: 2159520
Spatial Reference: 102643
(2227)
Full Extent:
XMin: 6028968
YMin: 1990560
XMax: 6219048
YMax: 2159520
Spatial Reference: 102643
(2227)
Pixel Size X: 0.25
Pixel Size Y: 0.25
Band Count: 4
Pixel Type: U8
RasterFunction Infos: N/A
Mensuration Capabilities: Basic
Has Histograms: true
Has Colormap: false
Min Scale: 0
Max Scale: 0
Copyright Text:
Service Data Type: esriImageServiceDataTypeGeneric
Min Values: 0, 0, 0, 0
Max Values: 243, 230, 193, 255
Mean Values: 62.779505117243, 56.636999611349, 40.230470268169, 112.4543334628838
Standard Deviation Values: 71.977345543582, 64.332726396209, 46.846554710277, 125.48619767957314
Object ID Field:
Fields:
None
Default Mosaic Method: Center
Allowed Mosaic Methods:
SortField:
SortValue: null
Mosaic Operator: First
Default Compression Quality: 75
Default Resampling Method: Bilinear
Max Record Count: null
Max Image Height: 4100
Max Image Width: 15000
Max Download Image Count: null
Max Mosaic Image Count: null
Allow Raster Function: true
Allow Compute TiePoints: false
Supports Statistics: false
Supports Advanced Queries: false
Use StandardizedQueries: true
Raster Type Infos:
Name: Raster Dataset
Description: Supports all ArcGIS Raster Datasets
Help:
Has Raster Attribute Table: false
Edit Fields Info: null
Ownership Based AccessControl For Rasters: null
Child Resources:
Info
Histograms
Key Properties
Legend
Supported Operations:
Export Image
Identify
Measure
Compute Histograms
Get Samples
Compute Class Statistics