View In:
ArcGIS JavaScript
ArcGIS.com Map
Google Earth
ArcMap
View Footprint In:
ArcGIS.com Map
Service Description:
Name: Pictometry2017
Description: Pictometry2017
Single Fused Map Cache: false
Extent:
XMin: 6029205.25
YMin: 2087638.5
XMax: 6064580
YMax: 2119269.25
Spatial Reference: PROJCS["NAD83_California_zone_3_ftUS",GEOGCS["GCS_North_American_1983",DATUM["D_North_American_1983",SPHEROID["GRS_1980",6378137.0,298.257222101]],PRIMEM["Greenwich",0.0],UNIT["Degree",0.0174532925199433]],PROJECTION["Lambert_Conformal_Conic"],PARAMETER["false_easting",6561666.667],PARAMETER["false_northing",1640416.667],PARAMETER["central_meridian",-120.5],PARAMETER["standard_parallel_1",38.43333333333333],PARAMETER["standard_parallel_2",37.06666666666667],PARAMETER["latitude_of_origin",36.5],UNIT["Foot_US",0.3048006096012192]]
Initial Extent:
XMin: 6029205.25
YMin: 2087638.5
XMax: 6064580
YMax: 2119269.25
Spatial Reference: PROJCS["NAD83_California_zone_3_ftUS",GEOGCS["GCS_North_American_1983",DATUM["D_North_American_1983",SPHEROID["GRS_1980",6378137.0,298.257222101]],PRIMEM["Greenwich",0.0],UNIT["Degree",0.0174532925199433]],PROJECTION["Lambert_Conformal_Conic"],PARAMETER["false_easting",6561666.667],PARAMETER["false_northing",1640416.667],PARAMETER["central_meridian",-120.5],PARAMETER["standard_parallel_1",38.43333333333333],PARAMETER["standard_parallel_2",37.06666666666667],PARAMETER["latitude_of_origin",36.5],UNIT["Foot_US",0.3048006096012192]]
Full Extent:
XMin: 6029205.25
YMin: 2087638.5
XMax: 6064580
YMax: 2119269.25
Spatial Reference: PROJCS["NAD83_California_zone_3_ftUS",GEOGCS["GCS_North_American_1983",DATUM["D_North_American_1983",SPHEROID["GRS_1980",6378137.0,298.257222101]],PRIMEM["Greenwich",0.0],UNIT["Degree",0.0174532925199433]],PROJECTION["Lambert_Conformal_Conic"],PARAMETER["false_easting",6561666.667],PARAMETER["false_northing",1640416.667],PARAMETER["central_meridian",-120.5],PARAMETER["standard_parallel_1",38.43333333333333],PARAMETER["standard_parallel_2",37.06666666666667],PARAMETER["latitude_of_origin",36.5],UNIT["Foot_US",0.3048006096012192]]
Pixel Size X: 0.25
Pixel Size Y: 0.25
Band Count: 4
Pixel Type: U8
RasterFunction Infos: N/A
Mensuration Capabilities: Basic
Has Histograms: true
Has Colormap: false
Min Scale: 0
Max Scale: 0
Copyright Text:
Service Data Type: esriImageServiceDataTypeGeneric
Min Values: 0, 0, 0, 0
Max Values: 241, 231, 211, 255
Mean Values: 85.43571428571428, 87.5873271889401, 69.28801843317973, 173.11589861751153
Standard Deviation Values: 62.5933571221915, 62.166359060563174, 50.56207112219156, 118.23414703898277
Object ID Field:
Fields:
None
Default Mosaic Method: Center
Allowed Mosaic Methods:
SortField:
SortValue: null
Mosaic Operator: First
Default Compression Quality: 75
Default Resampling Method: Bilinear
Max Record Count: null
Max Image Height: 4100
Max Image Width: 15000
Max Download Image Count: null
Max Mosaic Image Count: null
Allow Raster Function: true
Allow Compute TiePoints: false
Supports Statistics: false
Supports Advanced Queries: false
Use StandardizedQueries: true
Raster Type Infos:
Name: Raster Dataset
Description: Supports all ArcGIS Raster Datasets
Help:
Has Raster Attribute Table: false
Edit Fields Info: null
Ownership Based AccessControl For Rasters: null
Child Resources:
Info
Histograms
Key Properties
Legend
Supported Operations:
Export Image
Identify
Measure
Compute Histograms
Get Samples
Compute Class Statistics